BEGIN:VCALENDAR
VERSION:2.0
PRODID:icalendar-ruby
CALSCALE:GREGORIAN
METHOD:PUBLISH
BEGIN:VEVENT
DTSTAMP:20260425T211005Z
UID:490-2322241@hearto.tithelysetup5.com
DTSTART:20261107T150000Z
DTEND:20261107T210000Z
CLASS:PUBLIC
CREATED:20260409T130205
DESCRIPTION:
LAST-MODIFIED:20260409T130205
LOCATION:
SUMMARY:Turkey Chase
URL;VALUE=URI:https://www.hotlstrong.com/events/turkey-chase--490/2026-11-0
 7
ATTACH;FILENAME=turkey-chase.jpg;FMTTYPE=image/jpeg:https://dq5pwpg1q8ru0.c
 loudfront.net/2026/04/09/17/02/05/8eecf840-0a5a-4652-a654-8312328f3dfa/tur
 key-chase.jpg
END:VEVENT
END:VCALENDAR
