BEGIN:VCALENDAR
VERSION:2.0
PRODID:icalendar-ruby
CALSCALE:GREGORIAN
METHOD:PUBLISH
BEGIN:VEVENT
DTSTAMP:20260422T013510Z
UID:449-2423070@hearto.tithelysetup5.com
DTSTART:20260830T153000Z
DTEND:20260830T163000Z
CLASS:PUBLIC
CREATED:20260421T201057
DESCRIPTION:Third Service (HOTL BKN)
LAST-MODIFIED:20260421T201057
LOCATION:7031 Jefferson Rd\, Brooklyn\, MI 49230
SUMMARY:Third Service (HOTL BKN)
URL;VALUE=URI:https://www.hotlstrong.com/events/third-service-hotl-bkn/2026
 -08-30
END:VEVENT
END:VCALENDAR
