BEGIN:VCALENDAR
VERSION:2.0
PRODID:icalendar-ruby
CALSCALE:GREGORIAN
METHOD:PUBLISH
BEGIN:VEVENT
DTSTAMP:20260420T144551Z
UID:450-2409562@hearto.tithelysetup5.com
DTSTART:20261101T233000Z
DTEND:20261102T003000Z
CLASS:PUBLIC
CREATED:20260420T093819
DESCRIPTION:The Lodge Student Ministry
LAST-MODIFIED:20260420T093819
LOCATION:7031 Jefferson Rd\, Brooklyn\, MI 49230
SUMMARY:The Lodge Student Ministry
URL;VALUE=URI:https://www.hotlstrong.com/events/the-lodge-student-ministry/
 2026-11-01
END:VEVENT
END:VCALENDAR
