BEGIN:VCALENDAR
VERSION:2.0
PRODID:icalendar-ruby
CALSCALE:GREGORIAN
METHOD:PUBLISH
BEGIN:VEVENT
DTSTAMP:20260420T132624Z
UID:450-2408205@hearto.tithelysetup5.com
DTSTART:20261025T223000Z
DTEND:20261025T233000Z
CLASS:PUBLIC
CREATED:20260420T070238
DESCRIPTION:The Lodge Student Ministry
LAST-MODIFIED:20260420T070238
LOCATION:7031 Jefferson Rd\, Brooklyn\, MI 49230
SUMMARY:The Lodge Student Ministry
URL;VALUE=URI:https://www.hotlstrong.com/events/the-lodge-student-ministry/
 2026-10-25
END:VEVENT
END:VCALENDAR
