BEGIN:VCALENDAR
VERSION:2.0
PRODID:icalendar-ruby
CALSCALE:GREGORIAN
METHOD:PUBLISH
BEGIN:VEVENT
DTSTAMP:20260420T074707Z
UID:450-2406845@hearto.tithelysetup5.com
DTSTART:20260927T223000Z
DTEND:20260927T233000Z
CLASS:PUBLIC
CREATED:20260420T015459
DESCRIPTION:The Lodge Student Ministry
LAST-MODIFIED:20260420T015459
LOCATION:7031 Jefferson Rd\, Brooklyn\, MI 49230
SUMMARY:The Lodge Student Ministry
URL;VALUE=URI:https://www.hotlstrong.com/events/the-lodge-student-ministry/
 2026-09-27
END:VEVENT
END:VCALENDAR
