BEGIN:VCALENDAR
VERSION:2.0
PRODID:icalendar-ruby
CALSCALE:GREGORIAN
METHOD:PUBLISH
BEGIN:VEVENT
DTSTAMP:20260422T095813Z
UID:448-2423023@hearto.tithelysetup5.com
DTSTART:20261011T140000Z
DTEND:20261011T150000Z
CLASS:PUBLIC
CREATED:20260421T201057
DESCRIPTION:Second Service (HOTL BKN)
LAST-MODIFIED:20260421T201057
LOCATION:7031 Jefferson Rd\, Brooklyn\, MI 49230
SUMMARY:Second Service (HOTL BKN)
URL;VALUE=URI:https://www.hotlstrong.com/events/second-service-hotl-bkn/202
 6-10-11
END:VEVENT
END:VCALENDAR
