BEGIN:VCALENDAR
VERSION:2.0
PRODID:icalendar-ruby
CALSCALE:GREGORIAN
METHOD:PUBLISH
BEGIN:VEVENT
DTSTAMP:20260420T072218Z
UID:448-2406738@hearto.tithelysetup5.com
DTSTART:20260920T140000Z
DTEND:20260920T150000Z
CLASS:PUBLIC
CREATED:20260420T015459
DESCRIPTION:Second Service (HOTL BKN)
LAST-MODIFIED:20260420T015459
LOCATION:7031 Jefferson Rd\, Brooklyn\, MI 49230
SUMMARY:Second Service (HOTL BKN)
URL;VALUE=URI:https://www.hotlstrong.com/events/second-service-hotl-bkn/202
 6-09-20
END:VEVENT
END:VCALENDAR
