BEGIN:VCALENDAR
VERSION:2.0
PRODID:icalendar-ruby
CALSCALE:GREGORIAN
METHOD:PUBLISH
BEGIN:VEVENT
DTSTAMP:20260425T210412Z
UID:489-2322240@hearto.tithelysetup5.com
DTSTART:20261025T180000Z
DTEND:20261025T230000Z
CLASS:PUBLIC
CREATED:20260409T125755
DESCRIPTION:
LAST-MODIFIED:20260409T125755
LOCATION:7031 Jefferson Rd. Brooklyn\, Mi 49230 
SUMMARY:HOTLWEEN
URL;VALUE=URI:https://www.hotlstrong.com/events/hotlween--489/2026-10-25
ATTACH;FILENAME=hotlween.jpg;FMTTYPE=image/jpeg:https://dq5pwpg1q8ru0.cloud
 front.net/2026/04/09/16/57/55/d520de9f-98ee-46f6-8df5-1649d2968c04/hotlwee
 n.jpg
END:VEVENT
END:VCALENDAR
