BEGIN:VCALENDAR
VERSION:2.0
PRODID:icalendar-ruby
CALSCALE:GREGORIAN
METHOD:PUBLISH
BEGIN:VEVENT
DTSTAMP:20260425T205620Z
UID:491-2322242@hearto.tithelysetup5.com
DTSTART:20270131T130000Z
DTEND:20270131T180000Z
CLASS:PUBLIC
CREATED:20260409T130532
DESCRIPTION:
LAST-MODIFIED:20260409T130532
LOCATION:7031 Jefferson Rd. Brooklyn\, Mi 49230 
SUMMARY:HOTLCON
URL;VALUE=URI:https://www.hotlstrong.com/events/hotlcon--491/2027-01-31
ATTACH;FILENAME=hotlcon.jpg;FMTTYPE=image/jpeg:https://dq5pwpg1q8ru0.cloudf
 ront.net/2026/04/09/17/05/32/f14ad139-7ffe-4ab5-891f-3ba079546b22/hotlcon.
 jpg
END:VEVENT
END:VCALENDAR
