BEGIN:VCALENDAR
VERSION:2.0
PRODID:icalendar-ruby
CALSCALE:GREGORIAN
METHOD:PUBLISH
BEGIN:VEVENT
DTSTAMP:20260422T100134Z
UID:447-2422971@hearto.tithelysetup5.com
DTSTART:20261018T123000Z
DTEND:20261018T133000Z
CLASS:PUBLIC
CREATED:20260421T201057
DESCRIPTION:First Service (HOTL BKN)
LAST-MODIFIED:20260421T201057
LOCATION:7031 Jefferson Rd
SUMMARY:First Service (HOTL BKN)
URL;VALUE=URI:https://www.hotlstrong.com/events/first-service-hotl-bkn/2026
 -10-18
END:VEVENT
END:VCALENDAR
