BEGIN:VCALENDAR
VERSION:2.0
PRODID:icalendar-ruby
CALSCALE:GREGORIAN
METHOD:PUBLISH
BEGIN:VEVENT
DTSTAMP:20260422T084046Z
UID:447-2422970@hearto.tithelysetup5.com
DTSTART:20261011T123000Z
DTEND:20261011T133000Z
CLASS:PUBLIC
CREATED:20260421T201057
DESCRIPTION:First Service (HOTL BKN)
LAST-MODIFIED:20260421T201057
LOCATION:7031 Jefferson Rd
SUMMARY:First Service (HOTL BKN)
URL;VALUE=URI:https://www.hotlstrong.com/events/first-service-hotl-bkn/2026
 -10-11
END:VEVENT
END:VCALENDAR
