BEGIN:VCALENDAR
VERSION:2.0
PRODID:icalendar-ruby
CALSCALE:GREGORIAN
METHOD:PUBLISH
BEGIN:VEVENT
DTSTAMP:20260420T083621Z
UID:447-2406687@hearto.tithelysetup5.com
DTSTART:20261004T123000Z
DTEND:20261004T133000Z
CLASS:PUBLIC
CREATED:20260420T015459
DESCRIPTION:First Service (HOTL BKN)
LAST-MODIFIED:20260420T015459
LOCATION:7031 Jefferson Rd
SUMMARY:First Service (HOTL BKN)
URL;VALUE=URI:https://www.hotlstrong.com/events/first-service-hotl-bkn/2026
 -10-04
END:VEVENT
END:VCALENDAR
