BEGIN:VCALENDAR
VERSION:2.0
PRODID:icalendar-ruby
CALSCALE:GREGORIAN
METHOD:PUBLISH
BEGIN:VEVENT
DTSTAMP:20260420T070805Z
UID:447-2406686@hearto.tithelysetup5.com
DTSTART:20260927T123000Z
DTEND:20260927T133000Z
CLASS:PUBLIC
CREATED:20260420T015459
DESCRIPTION:First Service (HOTL BKN)
LAST-MODIFIED:20260420T015459
LOCATION:7031 Jefferson Rd
SUMMARY:First Service (HOTL BKN)
URL;VALUE=URI:https://www.hotlstrong.com/events/first-service-hotl-bkn/2026
 -09-27
END:VEVENT
END:VCALENDAR
