BEGIN:VCALENDAR
VERSION:2.0
PRODID:icalendar-ruby
CALSCALE:GREGORIAN
METHOD:PUBLISH
BEGIN:VEVENT
DTSTAMP:20260420T053053Z
UID:447-2405325@hearto.tithelysetup5.com
DTSTART:20260920T123000Z
DTEND:20260920T133000Z
CLASS:PUBLIC
CREATED:20260419T221806
DESCRIPTION:First Service (HOTL BKN)
LAST-MODIFIED:20260419T221806
LOCATION:7031 Jefferson Rd
SUMMARY:First Service (HOTL BKN)
URL;VALUE=URI:https://www.hotlstrong.com/events/first-service-hotl-bkn/2026
 -09-20
END:VEVENT
END:VCALENDAR
