BEGIN:VCALENDAR
VERSION:2.0
PRODID:icalendar-ruby
CALSCALE:GREGORIAN
METHOD:PUBLISH
BEGIN:VEVENT
DTSTAMP:20260420T040400Z
UID:447-2405324@hearto.tithelysetup5.com
DTSTART:20260913T123000Z
DTEND:20260913T133000Z
CLASS:PUBLIC
CREATED:20260419T221806
DESCRIPTION:First Service (HOTL BKN)
LAST-MODIFIED:20260419T221806
LOCATION:7031 Jefferson Rd
SUMMARY:First Service (HOTL BKN)
URL;VALUE=URI:https://www.hotlstrong.com/events/first-service-hotl-bkn/2026
 -09-13
END:VEVENT
END:VCALENDAR
